BEGIN:VCALENDAR
VERSION:2.0
PRODID:-//UBC Cardio - ECPv6.15.17.1//NONSGML v1.0//EN
CALSCALE:GREGORIAN
METHOD:PUBLISH
X-ORIGINAL-URL:https://www.ubccardio.com
X-WR-CALDESC:Events for UBC Cardio
REFRESH-INTERVAL;VALUE=DURATION:PT1H
X-Robots-Tag:noindex
X-PUBLISHED-TTL:PT1H
BEGIN:VTIMEZONE
TZID:UTC
BEGIN:STANDARD
TZOFFSETFROM:+0000
TZOFFSETTO:+0000
TZNAME:UTC
DTSTART:20250101T000000
END:STANDARD
END:VTIMEZONE
BEGIN:VEVENT
DTSTART;TZID=UTC:20260413T183000
DTEND;TZID=UTC:20260413T213000
DTSTAMP:20260419T160153
CREATED:20260325T222707Z
LAST-MODIFIED:20260410T200201Z
UID:5681-1776105000-1776115800@www.ubccardio.com
SUMMARY:ACC :  News from New Orleans
DESCRIPTION:The Division of Cardiology invites you to attend “News from New Orleans” \nDATE:  Monday April13th\, 2026 \nTIME: 6:30 pm Reception and Hors D’Oeuvres\n7:00 Dinner and Presentations \n LOCATION:  Seasons in the Park – Summit Room   Queen Elizabeth Park\, West 33rd Vancouver\, BC \n Learning Objectives \n\nProvide participants with up-to-date clinical knowledge and examine the impact on clinical practice in BC from new data presented at ACC 2026\nDiscuss solutions and strategies for addressing healthcare challenges and\nFoster collaboration and communication among healthcare professionals.\n\nAccreditation \nSelf-approved group learning activity (section-1) as defined by the Maintenance of Certification program of the Royal College of Physicians and Surgeons of Canada.
URL:https://www.ubccardio.com/event/acc-news-from-new-orleans/
LOCATION:Seasons in the Park (Summit Room)\, West 33rd Ave\, Vancouver\, British Columbia\, Canada
END:VEVENT
BEGIN:VEVENT
DTSTART;TZID=UTC:20260530T113000
DTEND;TZID=UTC:20260530T143000
DTSTAMP:20260419T160153
CREATED:20260127T204425Z
LAST-MODIFIED:20260325T193023Z
UID:4848-1780140600-1780151400@www.ubccardio.com
SUMMARY:UBC Cardiology Community Education Event
DESCRIPTION:
URL:https://www.ubccardio.com/event/ubc-cardiology-community-education-event/
LOCATION:UBC Robson Square\, 800 Robson St.\, Vancouver\, BC\, V6Z 3B7\, Canada
CATEGORIES:RSVP
ORGANIZER;CN="Annamaria Oliveri":MAILTO:annamaria.oliveri@phc.ca
END:VEVENT
END:VCALENDAR