BEGIN:VCALENDAR
VERSION:2.0
PRODID:-//UBC Cardio - ECPv6.15.17.1//NONSGML v1.0//EN
CALSCALE:GREGORIAN
METHOD:PUBLISH
X-WR-CALNAME:UBC Cardio
X-ORIGINAL-URL:https://www.ubccardio.com
X-WR-CALDESC:Events for UBC Cardio
REFRESH-INTERVAL;VALUE=DURATION:PT1H
X-Robots-Tag:noindex
X-PUBLISHED-TTL:PT1H
BEGIN:VTIMEZONE
TZID:UTC
BEGIN:STANDARD
TZOFFSETFROM:+0000
TZOFFSETTO:+0000
TZNAME:UTC
DTSTART:20230101T000000
END:STANDARD
END:VTIMEZONE
BEGIN:VTIMEZONE
TZID:America/Vancouver
BEGIN:DAYLIGHT
TZOFFSETFROM:-0800
TZOFFSETTO:-0700
TZNAME:PDT
DTSTART:20230312T100000
END:DAYLIGHT
BEGIN:STANDARD
TZOFFSETFROM:-0700
TZOFFSETTO:-0800
TZNAME:PST
DTSTART:20231105T090000
END:STANDARD
BEGIN:DAYLIGHT
TZOFFSETFROM:-0800
TZOFFSETTO:-0700
TZNAME:PDT
DTSTART:20240310T100000
END:DAYLIGHT
BEGIN:STANDARD
TZOFFSETFROM:-0700
TZOFFSETTO:-0800
TZNAME:PST
DTSTART:20241103T090000
END:STANDARD
BEGIN:DAYLIGHT
TZOFFSETFROM:-0800
TZOFFSETTO:-0700
TZNAME:PDT
DTSTART:20250309T100000
END:DAYLIGHT
BEGIN:STANDARD
TZOFFSETFROM:-0700
TZOFFSETTO:-0800
TZNAME:PST
DTSTART:20251102T090000
END:STANDARD
END:VTIMEZONE
BEGIN:VEVENT
DTSTART;TZID=UTC:20241125T180000
DTEND;TZID=UTC:20241125T210000
DTSTAMP:20260423T165734
CREATED:20241115T224755Z
LAST-MODIFIED:20241115T224755Z
UID:4001-1732557600-1732568400@www.ubccardio.com
SUMMARY:"AHA 2024”  A BC Perspective from “Chatter from Chicago”
DESCRIPTION:The Division of Cardiology invites you to attend “AHA 2024” \nA BC Perspective from “Chatter from Chicago” \nLearning Objectives \n1. Provide participants with up-to-date clinical knowledge and examine the impact on clinical practice in BC from new data presented at AHA 2024\, \n2. Discuss solutions and strategies for addressing healthcare challenges and \n3. Foster collaboration and communication among healthcare professionals. \nAccreditation \nSelf-approved group learning activity (section-1) as defined by the Maintenance of Certification program of the Royal College of Physicians and Surgeons of Canada. \nTopics \nArrhythmias\, HTN\, AF\, Diabetes\, CHF
URL:https://www.ubccardio.com/event/aha-2024-a-bc-perspective-from-chatter-from-chicago/
LOCATION:Blue Water Cafe\, 1095 Hamilton St\, Vancouver\, BC\, V6B 5T4\, Canada
END:VEVENT
BEGIN:VEVENT
DTSTART;TZID=UTC:20241118T183000
DTEND;TZID=UTC:20241118T213000
DTSTAMP:20260423T165734
CREATED:20241107T040528Z
LAST-MODIFIED:20241107T042018Z
UID:3933-1731954600-1731965400@www.ubccardio.com
SUMMARY:UBC Women in Cardiology Dinner Evening
DESCRIPTION:THE UBC DIVISION OF CARDIOLOGY cordially invites you to the 2nd annual UBC Women in Cardiology Dinner Evening \nMonday\, November 18th\, 6:30pm at the Blue Water Cafe \n \nKeynote Speaker: Radha Curpen\nPartner\, McMillan LLP\nGroup Head\, ESG and Sustainability Women and Leadership \nRadha Curpen is a highly sought-after legal expert on environmental\, Indigenous relations\, governance\, regulatory\, climate change\, human rights\, crisis management and sustainability matters. She is Group Head of McMillan’s ESG and Sustainability practice and also serves as McMillan’s National Client Relationship Ambassador\, an advisory role that expands McMillan’s strong commitment to client relations and service. \nTrusted on the most high-profile matters\, Radha has acted for some of North America’s largest and most well-known organizations in the energy\, infrastructure\, natural resources\, agribusiness\, industrial\, consumer goods and mining sectors. Her clients include corporations\, boards of directors\, special committees and Indigenous communities as well as governmental and regulatory agencies globally. She practices across Canada and also advises on cross-border issues\, including those relating to the United States. \nRead more \nRSVP: Marilyn Robertson marilyn.robertson@vch.ca \nWe would like to thank our sponsors who have made this event possible!
URL:https://www.ubccardio.com/event/ubc-women-in-cardiology-dinner-evening/
LOCATION:Blue Water Cafe\, 1095 Hamilton St\, Vancouver\, BC\, V6B 5T4\, Canada
ATTACH;FMTTYPE=image/jpeg:https://www.ubccardio.com/wp-content/uploads/2024/11/blue-water-cafe.jpg
END:VEVENT
BEGIN:VEVENT
DTSTART;TZID=America/Vancouver:20241023T190000
DTEND;TZID=America/Vancouver:20241023T210000
DTSTAMP:20260423T165734
CREATED:20241014T011116Z
LAST-MODIFIED:20241023T165719Z
UID:3828-1729710000-1729717200@www.ubccardio.com
SUMMARY:UBC Alumni Night
DESCRIPTION:UBC Division of Cardiology – CME is requesting your presence to celebrate our fantastic alumni and achievements in 2024. It promises to be an enjoyable night of collegiality and learning. Mingle with other colleagues from throughout our great province and welcome those returning to Vancouver. Your participation will make this a memorable night to cherish. Help us maintain a great UBC tradition. \nDate: October 23rd \, 2024 (night before CCS) \nAgenda:\nWelcome remarks 7pm\nPresentations 7:30 pm\nClosing remarks 9:00pm \nTheme: Monte Carlo\nVenue: The Vancouver Club (915 West Hastings St)\nModerator: Krish Ramanathan\nSpecial Guests: Dr John Cairns and Dr John Webb
URL:https://www.ubccardio.com/event/ubc-alumni-night/
LOCATION:The Vancouver Club\, 915 West Hastings St\, Vancouver\, BC\, V6C 1C6\, Canada
ATTACH;FMTTYPE=image/jpeg:https://www.ubccardio.com/wp-content/uploads/2024/10/the-vancouver-club.jpg
END:VEVENT
END:VCALENDAR